BEGIN:VCALENDAR
VERSION:2.0
PRODID:-//FYWE - ECPv6.15.20//NONSGML v1.0//EN
CALSCALE:GREGORIAN
METHOD:PUBLISH
X-ORIGINAL-URL:https://www.fyweliberia.org
X-WR-CALDESC:Events for FYWE
REFRESH-INTERVAL;VALUE=DURATION:PT1H
X-Robots-Tag:noindex
X-PUBLISHED-TTL:PT1H
BEGIN:VTIMEZONE
TZID:UTC
BEGIN:STANDARD
TZOFFSETFROM:+0000
TZOFFSETTO:+0000
TZNAME:UTC
DTSTART:20240101T000000
END:STANDARD
END:VTIMEZONE
BEGIN:VEVENT
DTSTART;TZID=UTC:20251129T090000
DTEND;TZID=UTC:20251129T120000
DTSTAMP:20260421T115140
CREATED:20251112T154155Z
LAST-MODIFIED:20251112T154155Z
UID:885-1764406800-1764417600@www.fyweliberia.org
SUMMARY:Volunteer Meeting
DESCRIPTION:Volunteer Meeting
URL:https://www.fyweliberia.org/event/volunteer-meeting/
LOCATION:Paynesville City Library\, Paynesville\, Liberia
CATEGORIES:meeting
ATTACH;FMTTYPE=image/jpeg:https://www.fyweliberia.org/wp-content/uploads/2025/11/25a09d_628c628607534977bf69a080d900ffd1mv2.jpg
END:VEVENT
END:VCALENDAR